BEGIN:VCALENDAR
VERSION:2.0
PRODID:spatie/icalendar-generator
DESCRIPTION:Veranstaltungen von Oberland Gemeinschaft 5.0
X-WR-CALDESC:Veranstaltungen von Oberland Gemeinschaft 5.0
REFRESH-INTERVAL;VALUE=DURATION:PT1440M
X-PUBLISHED-TTL:PT1440M
BEGIN:VTIMEZONE
TZID:Europe/Berlin
BEGIN:DAYLIGHT
DTSTART:20250330T020000Z
TZOFFSETFROM:+0100
TZOFFSETTO:+0200
END:DAYLIGHT
BEGIN:STANDARD
DTSTART:20251026T030000Z
TZOFFSETFROM:+0200
TZOFFSETTO:+0100
END:STANDARD
BEGIN:DAYLIGHT
DTSTART:20260329T020000Z
TZOFFSETFROM:+0100
TZOFFSETTO:+0200
END:DAYLIGHT
END:VTIMEZONE
BEGIN:VTIMEZONE
TZID:UTC
BEGIN:STANDARD
DTSTART:20250725T234953Z
TZOFFSETFROM:+0000
TZOFFSETTO:+0000
END:STANDARD
END:VTIMEZONE
BEGIN:VEVENT
UID:8-8
DTSTAMP:20260421T234953Z
SUMMARY:Antlitzdiagnostik - Äußere Anzeichen innerer Erkrankungen
LOCATION:Golfclub Isarwinkel Am Golfplatz 65  Bad Tölz  83646
ORGANIZER;CN=Irmi:MAILTO:Grasmueller@text-on-demand.com
DTSTART;TZID=Europe/Berlin:20251209T190000
DTEND;TZID=Europe/Berlin:20251209T200000
X-ALT-DESC;FMTTYPE=TEXT/HTML:Thomas Trenkler &amp;nbsp\; Antlitzdiagnostik - Ä
 ußere Anzeichen innerer Erkrankungen (Wiederholung des Vortrags)
CATEGORIES:General
URL;VALUE=URI:https://oberlandgemeinschaft5.de/mc-events/antlitzdiagnostik-
 aeussere-anzeichen-innerer-erkrankungen/?mc_id=8
METHOD:PUBLISH
END:VEVENT
END:VCALENDAR