BEGIN:VCALENDAR
VERSION:2.0
PRODID:spatie/icalendar-generator
DESCRIPTION:Veranstaltungen von Oberland Gemeinschaft 5.0
X-WR-CALDESC:Veranstaltungen von Oberland Gemeinschaft 5.0
REFRESH-INTERVAL;VALUE=DURATION:PT1440M
X-PUBLISHED-TTL:PT1440M
BEGIN:VTIMEZONE
TZID:Europe/Berlin
BEGIN:DAYLIGHT
DTSTART:20250330T020000Z
TZOFFSETFROM:+0100
TZOFFSETTO:+0200
END:DAYLIGHT
BEGIN:STANDARD
DTSTART:20251026T030000Z
TZOFFSETFROM:+0200
TZOFFSETTO:+0100
END:STANDARD
BEGIN:DAYLIGHT
DTSTART:20260329T020000Z
TZOFFSETFROM:+0100
TZOFFSETTO:+0200
END:DAYLIGHT
END:VTIMEZONE
BEGIN:VTIMEZONE
TZID:UTC
BEGIN:STANDARD
DTSTART:20250725T222235Z
TZOFFSETFROM:+0000
TZOFFSETTO:+0000
END:STANDARD
END:VTIMEZONE
BEGIN:VEVENT
UID:10-10
DTSTAMP:20260421T222235Z
SUMMARY:Interne Weihnachtsfeier
LOCATION:Hof Familie Schauer  Schnegg 108  Wackersberg  83646
ORGANIZER;CN=Irmi:MAILTO:Grasmueller@text-on-demand.com
DTSTART;TZID=Europe/Berlin:20251216T190000
DTEND;TZID=Europe/Berlin:20251216T200000
X-ALT-DESC;FMTTYPE=TEXT/HTML:Kleine\, interne Weihnachtsfeier Für Getränk
 e ist gesorgt - bzw. können Glühwein\, Punsch\, Apfelschorle\, Wasser et
 c. erworben werden. Wer mag\, kann gerne eine Kleinigkeit zum Essen (Plät
 zchen\, Lebkuchen oder etwas Herzhaftes) mitbringen. Wir freuen uns auf Eu
 ch!
CATEGORIES:General
URL;VALUE=URI:https://oberlandgemeinschaft5.de/mc-events/interne-weihnachts
 feier/?mc_id=10
METHOD:PUBLISH
END:VEVENT
END:VCALENDAR