BEGIN:VCALENDAR
VERSION:2.0
PRODID:spatie/icalendar-generator
DESCRIPTION:Veranstaltungen von Oberland Gemeinschaft 5.0
X-WR-CALDESC:Veranstaltungen von Oberland Gemeinschaft 5.0
REFRESH-INTERVAL;VALUE=DURATION:PT1440M
X-PUBLISHED-TTL:PT1440M
BEGIN:VTIMEZONE
TZID:Europe/Berlin
BEGIN:STANDARD
DTSTART:20251026T030000Z
TZOFFSETFROM:+0200
TZOFFSETTO:+0100
END:STANDARD
BEGIN:DAYLIGHT
DTSTART:20260329T020000Z
TZOFFSETFROM:+0100
TZOFFSETTO:+0200
END:DAYLIGHT
END:VTIMEZONE
BEGIN:VTIMEZONE
TZID:UTC
BEGIN:STANDARD
DTSTART:20250725T134245Z
TZOFFSETFROM:+0000
TZOFFSETTO:+0000
END:STANDARD
END:VTIMEZONE
BEGIN:VEVENT
UID:15-15
DTSTAMP:20260421T134245Z
SUMMARY:Systemische Aufstellung
LOCATION:Hof Familie Schauer  Schnegg 108  Wackersberg  83646
ORGANIZER;CN=Irmi:MAILTO:Grasmueller@text-on-demand.com
DTSTART;TZID=Europe/Berlin:20260131T110000
DTEND;TZID=Europe/Berlin:20260131T170000
X-ALT-DESC;FMTTYPE=TEXT/HTML:Zeit für Heilung\, deine Ahnen\, dich\, den 
 Partner\, deine Kinder. Am 15. Januar fand bereits ein Vortrag hierzu stat
 t\, am 31. Januar werden Aufstellungen durchgeführt. Für eine eigene Auf
 stellung werden 110\,- Euro erhoben\, für Stellvertreter 35\,- Euro. Refe
 rentin ist Ingrid Merk\, (Heilpraktikerin für Psychotherapie seit 2003\, 
 systemische Aufstellerin seit 2005\, Team-Organisationsentwicklung seit 20
 14)
CATEGORIES:General
URL;VALUE=URI:https://oberlandgemeinschaft5.de/mc-events/systemische-aufste
 llung-2/?mc_id=15
METHOD:PUBLISH
END:VEVENT
END:VCALENDAR