BEGIN:VCALENDAR
VERSION:2.0
PRODID:spatie/icalendar-generator
DESCRIPTION:Veranstaltungen von Oberland Gemeinschaft 5.0
X-WR-CALDESC:Veranstaltungen von Oberland Gemeinschaft 5.0
REFRESH-INTERVAL;VALUE=DURATION:PT1440M
X-PUBLISHED-TTL:PT1440M
BEGIN:VTIMEZONE
TZID:Europe/Berlin
BEGIN:DAYLIGHT
DTSTART:20250330T020000Z
TZOFFSETFROM:+0100
TZOFFSETTO:+0200
END:DAYLIGHT
BEGIN:STANDARD
DTSTART:20251026T030000Z
TZOFFSETFROM:+0200
TZOFFSETTO:+0100
END:STANDARD
BEGIN:DAYLIGHT
DTSTART:20260329T020000Z
TZOFFSETFROM:+0100
TZOFFSETTO:+0200
END:DAYLIGHT
END:VTIMEZONE
BEGIN:VTIMEZONE
TZID:UTC
BEGIN:STANDARD
DTSTART:20250726T070833Z
TZOFFSETFROM:+0000
TZOFFSETTO:+0000
END:STANDARD
END:VTIMEZONE
BEGIN:VEVENT
UID:4-4
DTSTAMP:20260422T070833Z
SUMMARY:Erkenne deine Begabungen und Stärken
LOCATION:Golfclub Isarwinkel Am Golfplatz 65  Bad Tölz  83646
ORGANIZER;CN=Irmi:MAILTO:Grasmueller@text-on-demand.com
DTSTART;TZID=Europe/Berlin:20251104T193000
DTEND;TZID=Europe/Berlin:20251104T203000
X-ALT-DESC;FMTTYPE=TEXT/HTML:Vanessa Meißner Vortrag für Jugendliche und 
 Eltern
CATEGORIES:General
URL;VALUE=URI:https://oberlandgemeinschaft5.de/mc-events/erkenne-deine-bega
 bungen-und-staerken/?mc_id=4
METHOD:PUBLISH
END:VEVENT
END:VCALENDAR